Package: vsclust Version: 1.10.0 Command: rm -rf vsclust.buildbin-libdir && mkdir vsclust.buildbin-libdir && /Users/biocbuild/BBS/utils/build-universal.sh vsclust_1.10.0.tar.gz /Library/Frameworks/R.framework/Resources/bin/R vsclust.buildbin-libdir StartedAt: 2025-04-22 01:15:01 -0400 (Tue, 22 Apr 2025) EndedAt: 2025-04-22 01:15:50 -0400 (Tue, 22 Apr 2025) EllapsedTime: 49.0 seconds RetCode: 0 Status: OK PackageFile: vsclust_1.10.0.tgz PackageFileSize: 3.968 MiB