Package: vsclust Version: 1.10.0 Command: /home/biocbuild/R/R/bin/R CMD INSTALL vsclust StartedAt: 2025-05-05 20:32:23 -0000 (Mon, 05 May 2025) EndedAt: 2025-05-05 20:33:10 -0000 (Mon, 05 May 2025) EllapsedTime: 47.2 seconds RetCode: 0 Status: OK