Package: vsclust Version: 1.10.0 Command: /home/biocbuild/R/R/bin/R CMD build --keep-empty-dirs --no-resave-data vsclust StartedAt: 2025-05-09 05:21:52 -0000 (Fri, 09 May 2025) EndedAt: 2025-05-09 05:24:47 -0000 (Fri, 09 May 2025) EllapsedTime: 175.2 seconds RetCode: 0 Status: OK PackageFile: vsclust_1.10.0.tar.gz PackageFileSize: 3.568 MiB