Package: vsclust Version: 1.10.0 Command: rm -rf vsclust.buildbin-libdir && mkdir vsclust.buildbin-libdir && /Users/biocbuild/BBS/utils/build-universal.sh vsclust_1.10.0.tar.gz /Library/Frameworks/R.framework/Resources/bin/R vsclust.buildbin-libdir StartedAt: 2025-04-21 22:56:35 -0400 (Mon, 21 Apr 2025) EndedAt: 2025-04-21 22:56:50 -0400 (Mon, 21 Apr 2025) EllapsedTime: 15.3 seconds RetCode: 0 Status: OK PackageFile: vsclust_1.10.0.tgz PackageFileSize: 3.966 MiB