Package: vsclust Version: 1.8.0 Command: /Library/Frameworks/R.framework/Resources/bin/R CMD build --keep-empty-dirs --no-resave-data vsclust StartedAt: 2025-01-31 10:13:02 -0500 (Fri, 31 Jan 2025) EndedAt: 2025-01-31 10:15:20 -0500 (Fri, 31 Jan 2025) EllapsedTime: 138.1 seconds RetCode: 0 Status: OK PackageFile: vsclust_1.8.0.tar.gz PackageFileSize: 3.714 MiB