Package: vsclust Version: 1.10.0 Command: rm -rf vsclust.buildbin-libdir && mkdir vsclust.buildbin-libdir && /Users/biocbuild/BBS/utils/build-universal.sh vsclust_1.10.0.tar.gz /Library/Frameworks/R.framework/Resources/bin/R vsclust.buildbin-libdir StartedAt: 2025-04-29 13:31:34 -0400 (Tue, 29 Apr 2025) EndedAt: 2025-04-29 13:31:50 -0400 (Tue, 29 Apr 2025) EllapsedTime: 16.2 seconds RetCode: 0 Status: OK PackageFile: vsclust_1.10.0.tgz PackageFileSize: 3.963 MiB