Package: vmrseq Version: 1.2.0 Command: /home/biocbuild/bbs-3.22-bioc/R/bin/R CMD INSTALL vmrseq StartedAt: 2025-11-11 15:46:23 -0500 (Tue, 11 Nov 2025) EndedAt: 2025-11-11 15:47:06 -0500 (Tue, 11 Nov 2025) EllapsedTime: 42.9 seconds RetCode: 0 Status: OK