Package: vissE Version: 1.16.0 Command: /Library/Frameworks/R.framework/Resources/bin/R CMD INSTALL vissE StartedAt: 2025-04-21 15:10:20 -0400 (Mon, 21 Apr 2025) EndedAt: 2025-04-21 15:10:23 -0400 (Mon, 21 Apr 2025) EllapsedTime: 3.1 seconds RetCode: 0 Status: OK