Package: visiumStitched Version: 1.2.0 Command: /home/biocbuild/bbs-3.22-bioc/R/bin/R CMD INSTALL visiumStitched StartedAt: 2025-11-17 18:14:13 -0500 (Mon, 17 Nov 2025) EndedAt: 2025-11-17 18:15:08 -0500 (Mon, 17 Nov 2025) EllapsedTime: 54.6 seconds RetCode: 0 Status: OK