Package: vidger Version: 1.26.0 Command: /home/biocbuild/R/R/bin/R CMD INSTALL vidger StartedAt: 2025-01-30 20:41:32 -0000 (Thu, 30 Jan 2025) EndedAt: 2025-01-30 20:42:13 -0000 (Thu, 30 Jan 2025) EllapsedTime: 40.7 seconds RetCode: 0 Status: OK