Package: vidger Version: 1.26.0 Command: /home/biocbuild/R/R/bin/R CMD build --keep-empty-dirs --no-resave-data vidger StartedAt: 2025-01-31 03:25:14 -0000 (Fri, 31 Jan 2025) EndedAt: 2025-01-31 03:27:41 -0000 (Fri, 31 Jan 2025) EllapsedTime: 147.1 seconds RetCode: 0 Status: OK PackageFile: vidger_1.26.0.tar.gz PackageFileSize: 5.374 MiB