Package: vidger Version: 1.28.0 Command: /Library/Frameworks/R.framework/Resources/bin/R CMD build --keep-empty-dirs --no-resave-data vidger StartedAt: 2025-04-21 17:57:50 -0400 (Mon, 21 Apr 2025) EndedAt: 2025-04-21 17:58:35 -0400 (Mon, 21 Apr 2025) EllapsedTime: 44.5 seconds RetCode: 0 Status: OK PackageFile: vidger_1.28.0.tar.gz PackageFileSize: 8.722 MiB