Package: vidger Version: 1.28.0 Command: /Library/Frameworks/R.framework/Resources/bin/R CMD INSTALL vidger StartedAt: 2025-05-05 16:15:10 -0400 (Mon, 05 May 2025) EndedAt: 2025-05-05 16:15:48 -0400 (Mon, 05 May 2025) EllapsedTime: 37.7 seconds RetCode: 0 Status: OK