Package: veloviz Version: 1.12.0 Command: /home/biocbuild/R/R/bin/R CMD check --install=check:veloviz.install-out.txt --library=/home/biocbuild/R/R/site-library --no-vignettes --timings veloviz_1.12.0.tar.gz StartedAt: 2025-01-31 11:25:26 -0000 (Fri, 31 Jan 2025) EndedAt: 2025-01-31 11:26:33 -0000 (Fri, 31 Jan 2025) EllapsedTime: 67.1 seconds RetCode: 0 Status: OK CheckDir: veloviz.Rcheck Warnings: 0