Package: variancePartition Version: 1.36.3 Command: /home/biocbuild/R/R/bin/R CMD INSTALL variancePartition StartedAt: 2025-01-30 20:20:25 -0000 (Thu, 30 Jan 2025) EndedAt: 2025-01-30 20:20:50 -0000 (Thu, 30 Jan 2025) EllapsedTime: 25.2 seconds RetCode: 0 Status: OK