Package: uncoverappLib Version: 1.18.0 Command: /Library/Frameworks/R.framework/Resources/bin/R CMD INSTALL uncoverappLib StartedAt: 2025-05-15 16:56:54 -0400 (Thu, 15 May 2025) EndedAt: 2025-05-15 16:58:54 -0400 (Thu, 15 May 2025) EllapsedTime: 119.6 seconds RetCode: 0 Status: OK