Package: uSORT Version: 1.34.0 Command: E:\biocbuild\bbs-3.21-bioc\R\bin\R.exe CMD INSTALL uSORT StartedAt: 2025-08-14 15:44:14 -0400 (Thu, 14 Aug 2025) EndedAt: 2025-08-14 15:44:50 -0400 (Thu, 14 Aug 2025) EllapsedTime: 35.9 seconds RetCode: 0 Status: OK