Package: tximport Version: 1.33.0 Command: rm -rf tximport.buildbin-libdir && mkdir tximport.buildbin-libdir && F:\biocbuild\bbs-3.20-bioc\R\bin\R.exe CMD INSTALL --build --library=tximport.buildbin-libdir tximport_1.33.0.tar.gz StartedAt: 2024-06-10 15:27:57 -0400 (Mon, 10 Jun 2024) EndedAt: 2024-06-10 15:28:58 -0400 (Mon, 10 Jun 2024) EllapsedTime: 61.2 seconds RetCode: 0 Status: OK PackageFile: tximport_1.33.0.zip PackageFileSize: 357.2 KiB