Package: tximport Version: 1.36.0 Command: /Library/Frameworks/R.framework/Resources/bin/R CMD INSTALL tximport StartedAt: 2025-04-21 15:03:04 -0400 (Mon, 21 Apr 2025) EndedAt: 2025-04-21 15:03:20 -0400 (Mon, 21 Apr 2025) EllapsedTime: 15.6 seconds RetCode: 0 Status: OK