Package: tximeta Version: 1.24.0 Command: /Library/Frameworks/R.framework/Resources/bin/R CMD build --keep-empty-dirs --no-resave-data tximeta StartedAt: 2025-01-02 22:55:55 -0500 (Thu, 02 Jan 2025) EndedAt: 2025-01-02 22:59:19 -0500 (Thu, 02 Jan 2025) EllapsedTime: 204.2 seconds RetCode: 0 Status: OK PackageFile: tximeta_1.24.0.tar.gz PackageFileSize: 1.331 MiB