Package: tximeta Version: 1.26.0 Maintainer: Michael Love MaintainerEmail: michaelisaiahlove at gmail.com git_url: https://git.bioconductor.org/packages/tximeta git_branch: RELEASE_3_21 git_last_commit: 34f95e4 git_last_commit_date: 2025-04-15 11:36:42 -0400 (Tue, 15 Apr 2025)