Package: txdbmaker Version: 1.2.1 Command: /home/biocbuild/R/R/bin/R CMD check --install=check:txdbmaker.install-out.txt --library=/home/biocbuild/R/R/site-library --no-vignettes --timings txdbmaker_1.2.1.tar.gz StartedAt: 2025-01-31 11:20:06 -0000 (Fri, 31 Jan 2025) EndedAt: 2025-01-31 11:35:38 -0000 (Fri, 31 Jan 2025) EllapsedTime: 932.2 seconds RetCode: 0 Status: OK CheckDir: txdbmaker.Rcheck Warnings: 0