Package: txdbmaker Version: 1.4.1 Command: /Library/Frameworks/R.framework/Resources/bin/R CMD build --keep-empty-dirs --no-resave-data txdbmaker StartedAt: 2025-05-13 10:30:18 -0400 (Tue, 13 May 2025) EndedAt: 2025-05-13 10:32:14 -0400 (Tue, 13 May 2025) EllapsedTime: 115.9 seconds RetCode: 0 Status: OK PackageFile: txdbmaker_1.4.1.tar.gz PackageFileSize: 1010 KiB