Package: txdbmaker Version: 1.4.1 Command: rm -rf txdbmaker.buildbin-libdir && mkdir txdbmaker.buildbin-libdir && /Users/biocbuild/BBS/utils/build-universal.sh txdbmaker_1.4.1.tar.gz /Library/Frameworks/R.framework/Resources/bin/R txdbmaker.buildbin-libdir StartedAt: 2025-05-14 17:21:23 -0400 (Wed, 14 May 2025) EndedAt: 2025-05-14 17:22:12 -0400 (Wed, 14 May 2025) EllapsedTime: 48.9 seconds RetCode: 0 Status: OK PackageFile: txdbmaker_1.4.1.tgz PackageFileSize: 1.254 MiB