Package: twilight Version: 1.84.0 Command: /Library/Frameworks/R.framework/Resources/bin/R CMD build --keep-empty-dirs --no-resave-data twilight StartedAt: 2025-05-08 23:07:21 -0400 (Thu, 08 May 2025) EndedAt: 2025-05-08 23:09:29 -0400 (Thu, 08 May 2025) EllapsedTime: 127.8 seconds RetCode: 0 Status: OK PackageFile: twilight_1.84.0.tar.gz PackageFileSize: 1.191 MiB