Package: twilight Version: 1.84.0 Command: rm -rf twilight.buildbin-libdir && mkdir twilight.buildbin-libdir && /Users/biocbuild/BBS/utils/build-universal.sh twilight_1.84.0.tar.gz /Library/Frameworks/R.framework/Resources/bin/R twilight.buildbin-libdir StartedAt: 2025-05-09 13:37:20 -0400 (Fri, 09 May 2025) EndedAt: 2025-05-09 13:37:38 -0400 (Fri, 09 May 2025) EllapsedTime: 18.3 seconds RetCode: 0 Status: OK PackageFile: twilight_1.84.0.tgz PackageFileSize: 1.219 MiB