Package: twilight Version: 1.82.0 Command: rm -rf twilight.buildbin-libdir && mkdir twilight.buildbin-libdir && /Users/biocbuild/BBS/utils/build-universal.sh twilight_1.82.0.tar.gz /Library/Frameworks/R.framework/Resources/bin/R twilight.buildbin-libdir StartedAt: 2025-02-01 17:16:55 -0500 (Sat, 01 Feb 2025) EndedAt: 2025-02-01 17:17:04 -0500 (Sat, 01 Feb 2025) EllapsedTime: 9.1 seconds RetCode: 0 Status: OK PackageFile: twilight_1.82.0.tgz PackageFileSize: 1.219 MiB