Package: tweeDEseq Version: 1.54.0 Command: /Library/Frameworks/R.framework/Resources/bin/R CMD INSTALL tweeDEseq StartedAt: 2025-04-24 15:58:26 -0400 (Thu, 24 Apr 2025) EndedAt: 2025-04-24 15:58:59 -0400 (Thu, 24 Apr 2025) EllapsedTime: 32.7 seconds RetCode: 0 Status: OK