Package: tweeDEseq Version: 1.54.0 Command: rm -rf tweeDEseq.buildbin-libdir && mkdir tweeDEseq.buildbin-libdir && /Users/biocbuild/BBS/utils/build-universal.sh tweeDEseq_1.54.0.tar.gz /Library/Frameworks/R.framework/Resources/bin/R tweeDEseq.buildbin-libdir StartedAt: 2025-04-29 17:36:18 -0400 (Tue, 29 Apr 2025) EndedAt: 2025-04-29 17:36:42 -0400 (Tue, 29 Apr 2025) EllapsedTime: 23.5 seconds RetCode: 0 Status: OK PackageFile: tweeDEseq_1.54.0.tgz PackageFileSize: 351.9 KiB