Package: tweeDEseq Version: 1.54.0 Command: /home/biocbuild/R/R/bin/R CMD check --install=check:tweeDEseq.install-out.txt --library=/home/biocbuild/R/R/site-library --no-vignettes --timings tweeDEseq_1.54.0.tar.gz StartedAt: 2025-04-22 15:11:03 -0000 (Tue, 22 Apr 2025) EndedAt: 2025-04-22 15:12:20 -0000 (Tue, 22 Apr 2025) EllapsedTime: 77.1 seconds RetCode: 0 Status: WARNINGS CheckDir: tweeDEseq.Rcheck Warnings: 1