Package: ttgsea Version: 1.16.0 Command: /home/biocbuild/bbs-3.21-bioc/R/bin/R CMD build --keep-empty-dirs --no-resave-data ttgsea StartedAt: 2025-10-15 20:24:27 -0400 (Wed, 15 Oct 2025) EndedAt: 2025-10-15 20:24:54 -0400 (Wed, 15 Oct 2025) EllapsedTime: 27.0 seconds RetCode: 0 Status: OK PackageFile: ttgsea_1.16.0.tar.gz PackageFileSize: 331.4 KiB