Package: ttgsea Version: 1.16.0 Maintainer: Dongmin Jung MaintainerEmail: dmdmjung at gmail.com git_url: https://git.bioconductor.org/packages/ttgsea git_branch: RELEASE_3_21 git_last_commit: f73271e git_last_commit_date: 2025-04-15 12:16:26 -0400 (Tue, 15 Apr 2025)