Package: tripr Version: 1.12.0 Command: /home/biocbuild/R/R/bin/R CMD INSTALL tripr StartedAt: 2025-01-30 20:43:28 -0000 (Thu, 30 Jan 2025) EndedAt: 2025-01-30 20:44:06 -0000 (Thu, 30 Jan 2025) EllapsedTime: 38.2 seconds RetCode: 0 Status: OK