Package: tripr Version: 1.12.0 Command: /home/biocbuild/R/R/bin/R CMD check --install=check:tripr.install-out.txt --library=/home/biocbuild/R/R/site-library --no-vignettes --timings tripr_1.12.0.tar.gz StartedAt: 2025-01-31 11:17:36 -0000 (Fri, 31 Jan 2025) EndedAt: 2025-01-31 11:20:05 -0000 (Fri, 31 Jan 2025) EllapsedTime: 149.2 seconds RetCode: 0 Status: WARNINGS CheckDir: tripr.Rcheck Warnings: 2