Package: tripr Version: 1.12.0 Command: /home/biocbuild/R/R/bin/R CMD build --keep-empty-dirs --no-resave-data tripr StartedAt: 2025-01-31 03:18:16 -0000 (Fri, 31 Jan 2025) EndedAt: 2025-01-31 03:19:03 -0000 (Fri, 31 Jan 2025) EllapsedTime: 47.1 seconds RetCode: 0 Status: OK PackageFile: tripr_1.12.0.tar.gz PackageFileSize: 3.002 MiB