Package: trio Version: 3.46.0 Command: /Library/Frameworks/R.framework/Resources/bin/R CMD build --keep-empty-dirs --no-resave-data trio StartedAt: 2025-04-21 18:46:32 -0400 (Mon, 21 Apr 2025) EndedAt: 2025-04-21 18:47:33 -0400 (Mon, 21 Apr 2025) EllapsedTime: 60.7 seconds RetCode: 0 Status: OK PackageFile: trio_3.46.0.tar.gz PackageFileSize: 752.7 KiB