Package: trio Version: 3.46.0 Command: /Library/Frameworks/R.framework/Resources/bin/R CMD build --keep-empty-dirs --no-resave-data trio StartedAt: 2025-05-06 10:24:35 -0400 (Tue, 06 May 2025) EndedAt: 2025-05-06 10:25:36 -0400 (Tue, 06 May 2025) EllapsedTime: 60.9 seconds RetCode: 0 Status: OK PackageFile: trio_3.46.0.tar.gz PackageFileSize: 753.1 KiB