Package: trigger Version: 1.54.0 Maintainer: John D. Storey MaintainerEmail: jstorey at princeton.edu git_url: https://git.bioconductor.org/packages/trigger git_branch: RELEASE_3_21 git_last_commit: c93275c git_last_commit_date: 2025-04-15 10:11:43 -0400 (Tue, 15 Apr 2025)