Package: tricycle Version: 1.14.0 Command: /home/biocbuild/R/R/bin/R CMD INSTALL tricycle StartedAt: 2025-01-30 21:00:21 -0000 (Thu, 30 Jan 2025) EndedAt: 2025-01-30 21:01:00 -0000 (Thu, 30 Jan 2025) EllapsedTime: 39.0 seconds RetCode: 0 Status: OK