Package: tricycle Version: 1.14.0 Command: /home/biocbuild/R/R/bin/R CMD build --keep-empty-dirs --no-resave-data tricycle StartedAt: 2025-01-31 03:18:01 -0000 (Fri, 31 Jan 2025) EndedAt: 2025-01-31 03:19:14 -0000 (Fri, 31 Jan 2025) EllapsedTime: 73.1 seconds RetCode: 0 Status: OK PackageFile: tricycle_1.14.0.tar.gz PackageFileSize: 3.72 MiB