Package: treekoR Version: 1.18.0 Command: /home/biocbuild/R/R/bin/R CMD build --keep-empty-dirs --no-resave-data treekoR StartedAt: 2025-11-21 06:36:55 -0000 (Fri, 21 Nov 2025) EndedAt: 2025-11-21 06:38:52 -0000 (Fri, 21 Nov 2025) EllapsedTime: 117.0 seconds RetCode: 0 Status: OK PackageFile: treekoR_1.18.0.tar.gz PackageFileSize: 1.827 MiB