Package: treekoR Version: 1.16.0 Command: /home/biocbuild/bbs-3.21-bioc/R/bin/R CMD INSTALL treekoR StartedAt: 2025-10-05 15:22:36 -0400 (Sun, 05 Oct 2025) EndedAt: 2025-10-05 15:23:20 -0400 (Sun, 05 Oct 2025) EllapsedTime: 43.5 seconds RetCode: 0 Status: OK