Package: treekoR Version: 1.16.0 Command: /home/biocbuild/bbs-3.21-bioc/R/bin/R CMD build --keep-empty-dirs --no-resave-data treekoR StartedAt: 2025-10-05 20:24:26 -0400 (Sun, 05 Oct 2025) EndedAt: 2025-10-05 20:25:55 -0400 (Sun, 05 Oct 2025) EllapsedTime: 89.1 seconds RetCode: 0 Status: OK PackageFile: treekoR_1.16.0.tar.gz PackageFileSize: 1.581 MiB