Package: treeio Version: 1.32.0 Command: /home/biocbuild/bbs-3.21-bioc/R/bin/R CMD INSTALL treeio StartedAt: 2025-10-01 15:11:58 -0400 (Wed, 01 Oct 2025) EndedAt: 2025-10-01 15:12:07 -0400 (Wed, 01 Oct 2025) EllapsedTime: 8.5 seconds RetCode: 0 Status: OK