Package: treeio Version: 1.32.0 Command: /home/biocbuild/bbs-3.21-bioc/R/bin/R CMD build --keep-empty-dirs --no-resave-data treeio StartedAt: 2025-10-01 20:27:12 -0400 (Wed, 01 Oct 2025) EndedAt: 2025-10-01 20:27:21 -0400 (Wed, 01 Oct 2025) EllapsedTime: 9.0 seconds RetCode: 0 Status: OK PackageFile: treeio_1.32.0.tar.gz PackageFileSize: 678.7 KiB