Package: treeio Version: 1.32.0 Command: /Library/Frameworks/R.framework/Resources/bin/R CMD build --keep-empty-dirs --no-resave-data treeio StartedAt: 2025-05-05 23:04:15 -0400 (Mon, 05 May 2025) EndedAt: 2025-05-05 23:04:39 -0400 (Mon, 05 May 2025) EllapsedTime: 24.1 seconds RetCode: 0 Status: OK PackageFile: treeio_1.32.0.tar.gz PackageFileSize: 678.9 KiB