Package: treeio Version: 1.32.0 Command: rm -rf treeio.buildbin-libdir && mkdir treeio.buildbin-libdir && /Users/biocbuild/BBS/utils/build-universal.sh treeio_1.32.0.tar.gz /Library/Frameworks/R.framework/Resources/bin/R treeio.buildbin-libdir StartedAt: 2025-04-21 22:55:47 -0400 (Mon, 21 Apr 2025) EndedAt: 2025-04-21 22:55:52 -0400 (Mon, 21 Apr 2025) EllapsedTime: 4.1 seconds RetCode: 0 Status: OK PackageFile: treeio_1.32.0.tgz PackageFileSize: 913 KiB