Package: treeclimbR Version: 1.6.0 Command: /home/biocbuild/R/R/bin/R CMD build --keep-empty-dirs --no-resave-data treeclimbR StartedAt: 2025-11-21 06:36:50 -0000 (Fri, 21 Nov 2025) EndedAt: 2025-11-21 06:38:23 -0000 (Fri, 21 Nov 2025) EllapsedTime: 93.0 seconds RetCode: 0 Status: OK PackageFile: treeclimbR_1.6.0.tar.gz PackageFileSize: 606.2 KiB