Package: traviz Version: 1.12.0 Command: F:\biocbuild\bbs-3.20-bioc\R\bin\R.exe CMD check --no-multiarch --install=check:traviz.install-out.txt --library=F:\biocbuild\bbs-3.20-bioc\R\library --no-vignettes --timings traviz_1.12.0.tar.gz StartedAt: 2025-01-31 07:24:54 -0500 (Fri, 31 Jan 2025) EndedAt: 2025-01-31 07:29:08 -0500 (Fri, 31 Jan 2025) EllapsedTime: 253.9 seconds RetCode: 0 Status: OK CheckDir: traviz.Rcheck Warnings: 0