Package: traviz Version: 1.12.0 Command: rm -rf traviz.buildbin-libdir && mkdir traviz.buildbin-libdir && F:\biocbuild\bbs-3.20-bioc\R\bin\R.exe CMD INSTALL --build --library=traviz.buildbin-libdir traviz_1.12.0.tar.gz StartedAt: 2025-01-31 09:48:50 -0500 (Fri, 31 Jan 2025) EndedAt: 2025-01-31 09:49:22 -0500 (Fri, 31 Jan 2025) EllapsedTime: 31.9 seconds RetCode: 0 Status: OK PackageFile: traviz_1.12.0.zip PackageFileSize: 2.004 MiB